BEGIN:VCALENDAR
VERSION:2.0
PRODID:-//Cheerleading und Cheerperformance Verband Deutschland e.V. - ECPv6.15.20//NONSGML v1.0//EN
CALSCALE:GREGORIAN
METHOD:PUBLISH
X-WR-CALNAME:Cheerleading und Cheerperformance Verband Deutschland e.V.
X-ORIGINAL-URL:https://old.ccvd.de
X-WR-CALDESC:Veranstaltungen für Cheerleading und Cheerperformance Verband Deutschland e.V.
REFRESH-INTERVAL;VALUE=DURATION:PT1H
X-Robots-Tag:noindex
X-PUBLISHED-TTL:PT1H
BEGIN:VTIMEZONE
TZID:Europe/Berlin
BEGIN:DAYLIGHT
TZOFFSETFROM:+0100
TZOFFSETTO:+0200
TZNAME:CEST
DTSTART:20250330T010000
END:DAYLIGHT
BEGIN:STANDARD
TZOFFSETFROM:+0200
TZOFFSETTO:+0100
TZNAME:CET
DTSTART:20251026T010000
END:STANDARD
BEGIN:DAYLIGHT
TZOFFSETFROM:+0100
TZOFFSETTO:+0200
TZNAME:CEST
DTSTART:20260329T010000
END:DAYLIGHT
BEGIN:STANDARD
TZOFFSETFROM:+0200
TZOFFSETTO:+0100
TZNAME:CET
DTSTART:20261025T010000
END:STANDARD
BEGIN:DAYLIGHT
TZOFFSETFROM:+0100
TZOFFSETTO:+0200
TZNAME:CEST
DTSTART:20270328T010000
END:DAYLIGHT
BEGIN:STANDARD
TZOFFSETFROM:+0200
TZOFFSETTO:+0100
TZNAME:CET
DTSTART:20271031T010000
END:STANDARD
END:VTIMEZONE
BEGIN:VEVENT
DTSTART;VALUE=DATE:20260109
DTEND;VALUE=DATE:20260112
DTSTAMP:20260420T110704
CREATED:20250530T084916Z
LAST-MODIFIED:20250530T085223Z
UID:57821-1767916800-1768175999@old.ccvd.de
SUMMARY:5. Lehrgang CCVD Bundeskader Seniors
DESCRIPTION:
URL:https://old.ccvd.de/event/5-lehrgang-ccvd-bundeskader-seniors-3/
LOCATION:Alsfeld\, Alsfeld\, Hessen
CATEGORIES:Leistungssport
END:VEVENT
BEGIN:VEVENT
DTSTART;VALUE=DATE:20260110
DTEND;VALUE=DATE:20260112
DTSTAMP:20260420T110704
CREATED:20250530T141838Z
LAST-MODIFIED:20250530T141838Z
UID:57875-1768003200-1768175999@old.ccvd.de
SUMMARY:5. Lehrgang CCVD Bundeskader Performance Cheer Seniors
DESCRIPTION:
URL:https://old.ccvd.de/event/5-lehrgang-ccvd-bundeskader-performance-cheer-seniors/
CATEGORIES:Leistungssport
END:VEVENT
BEGIN:VEVENT
DTSTART;VALUE=DATE:20260116
DTEND;VALUE=DATE:20260119
DTSTAMP:20260420T110704
CREATED:20250530T091801Z
LAST-MODIFIED:20250530T091841Z
UID:57840-1768521600-1768780799@old.ccvd.de
SUMMARY:5. Lehrgang CCVD Bundeskader Juniors
DESCRIPTION:
URL:https://old.ccvd.de/event/4-lehrgang-ccvd-bundeskader-juniors-3/
LOCATION:Alsfeld\, Alsfeld\, Hessen
CATEGORIES:Leistungssport
END:VEVENT
END:VCALENDAR