BEGIN:VCALENDAR
VERSION:2.0
PRODID:-//Cheerleading und Cheerperformance Verband Deutschland e.V. - ECPv6.15.20//NONSGML v1.0//EN
CALSCALE:GREGORIAN
METHOD:PUBLISH
X-ORIGINAL-URL:https://old.ccvd.de
X-WR-CALDESC:Veranstaltungen für Cheerleading und Cheerperformance Verband Deutschland e.V.
REFRESH-INTERVAL;VALUE=DURATION:PT1H
X-Robots-Tag:noindex
X-PUBLISHED-TTL:PT1H
BEGIN:VTIMEZONE
TZID:Europe/Berlin
BEGIN:DAYLIGHT
TZOFFSETFROM:+0100
TZOFFSETTO:+0200
TZNAME:CEST
DTSTART:20240331T010000
END:DAYLIGHT
BEGIN:STANDARD
TZOFFSETFROM:+0200
TZOFFSETTO:+0100
TZNAME:CET
DTSTART:20241027T010000
END:STANDARD
BEGIN:DAYLIGHT
TZOFFSETFROM:+0100
TZOFFSETTO:+0200
TZNAME:CEST
DTSTART:20250330T010000
END:DAYLIGHT
BEGIN:STANDARD
TZOFFSETFROM:+0200
TZOFFSETTO:+0100
TZNAME:CET
DTSTART:20251026T010000
END:STANDARD
BEGIN:DAYLIGHT
TZOFFSETFROM:+0100
TZOFFSETTO:+0200
TZNAME:CEST
DTSTART:20260329T010000
END:DAYLIGHT
BEGIN:STANDARD
TZOFFSETFROM:+0200
TZOFFSETTO:+0100
TZNAME:CET
DTSTART:20261025T010000
END:STANDARD
END:VTIMEZONE
BEGIN:VEVENT
DTSTART;VALUE=DATE:20251205
DTEND;VALUE=DATE:20251208
DTSTAMP:20260424T103435
CREATED:20250530T141740Z
LAST-MODIFIED:20250530T141740Z
UID:57873-1764892800-1765151999@old.ccvd.de
SUMMARY:4. Lehrgang CCVD Bundeskader Performance Cheer Seniors
DESCRIPTION:
URL:https://old.ccvd.de/event/4-lehrgang-ccvd-bundeskader-performance-cheer-seniors/
LOCATION:Bünde
CATEGORIES:Leistungssport
END:VEVENT
BEGIN:VEVENT
DTSTART;VALUE=DATE:20251219
DTEND;VALUE=DATE:20251222
DTSTAMP:20260424T103435
CREATED:20250530T084603Z
LAST-MODIFIED:20250530T092317Z
UID:57819-1766102400-1766361599@old.ccvd.de
SUMMARY:4. Lehrgang CCVD Bundeskader Seniors & Juniors
DESCRIPTION:
URL:https://old.ccvd.de/event/4-lehrgang-ccvd-bundeskader-seniors/
LOCATION:Frankfurt
CATEGORIES:Leistungssport
END:VEVENT
END:VCALENDAR